BEGIN:VCALENDAR
VERSION:2.0
PRODID:-//ChamberMaster//Event Calendar 2.0//EN
METHOD:PUBLISH
X-PUBLISHED-TTL:P3D
REFRESH-INTERVAL:P3D
CALSCALE:GREGORIAN
BEGIN:VEVENT
DTSTART:20240712T223000Z
DTEND:20240713T003000Z
X-MICROSOFT-CDO-ALLDAYEVENT:FALSE
SUMMARY:Summer Concert - Soft Touch Band
DESCRIPTION:Soft Touch is a classic big band with full horn and rhythm sections and two outstanding vocalists\, specializing in swing era music from the '40s to the '60s\, plus Broadway hits and classic rock favorites.
X-ALT-DESC;FMTTYPE=text/html:<h2 class="CDt4Ke zfr3Q JYVBee" dir="ltr" id="h.3f4tphhd9pn8_l" style="line-height: 1.21\; font-style: inherit\; white-space-collapse: preserve\; text-decoration: inherit\; box-sizing: border-box\; font-variant-ligatures: none\; margin: 0px\; outline: none\; position: relative\; color: rgb(33\, 33\, 33)\; font-size: 28pt\; font-family: Roboto\; padding-bottom: 0px\; padding-top: 0px\; pointer-events: none\; text-align: center\;" tabindex="-1"><span style="font-size: 14px\;"><span style="font-family: arial\;">Soft Touch is a classic big band with full horn and rhythm sections and two outstanding vocalists\, specializing in swing era music from the &#39\;40s to the &#39\;60s\, plus Broadway hits and classic rock favorites.</span></span></h2>\n
LOCATION:Emery Park\, Depot Square\, Lexington MA 02421
UID:e.2449.13954
SEQUENCE:3
DTSTAMP:20260420T025652Z
URL:https://business.lexingtonchamber.org/events/details/summer-concert-soft-touch-band-07-12-2024-13954
END:VEVENT

END:VCALENDAR
