BEGIN:VCALENDAR
VERSION:2.0
PRODID:-//ChamberMaster//Event Calendar 2.0//EN
METHOD:PUBLISH
X-PUBLISHED-TTL:P3D
REFRESH-INTERVAL:P3D
CALSCALE:GREGORIAN
BEGIN:VEVENT
DTSTART:20240705T223000Z
DTEND:20240706T000000Z
X-MICROSOFT-CDO-ALLDAYEVENT:FALSE
SUMMARY:Summer Concert - 215 Army Band
DESCRIPTION:The 215th Army Band of the Massachusetts Army National Guard remains one of the nation's finest military bands. For more than 60 years\, the band has performed throughout New England and the world\, bringing the Army's fine musical traditions and goodwill to thousands of listeners.\n\n\n\nSee a past performance Here
X-ALT-DESC;FMTTYPE=text/html:<p style="border: 0px\; font-size: 18px\; margin: 1em 0px\; outline: 0px\; padding: 0px\; vertical-align: baseline\; color: rgb(10\, 10\, 10)\; background-color: rgb(249\, 249\, 249)\;"><span style="color: rgb(255\, 255\, 255)\; font-family: montserrat\, sans-serif\; background-color: rgb(0\, 0\, 0)\;">The 215th Army Band of the Massachusetts Army National Guard remains one of the nation&#39\;s finest military bands. For more than 60 years\, the band has performed throughout New England and the world\, bringing the Army&#39\;s fine musical traditions and goodwill to thousands of listeners.</span><br />\n<br />\n<font face="arial">See a past performance <a href="https://www.215tharmyband.com/wp-content/themes/215thArmyBandWPTemplate/assets/images/op_lexington_july3.mp4">Here</a></font></p>\n
LOCATION:Emery Park\, (Depot Square\, Lexington MA)
UID:e.2449.14769
SEQUENCE:3
DTSTAMP:20260420T025723Z
URL:https://business.lexingtonchamber.org/events/details/summer-concert-215-army-band-14769
END:VEVENT

END:VCALENDAR
