BEGIN:VCALENDAR
VERSION:2.0
PRODID:-//ChamberMaster//Event Calendar 2.0//EN
METHOD:PUBLISH
X-PUBLISHED-TTL:P3D
REFRESH-INTERVAL:P3D
CALSCALE:GREGORIAN
BEGIN:VEVENT
DTSTART:20260605T203000Z
DTEND:20260605T223000Z
X-MICROSOFT-CDO-ALLDAYEVENT:FALSE
SUMMARY:Stellar Medical Aesthetics Ribbon Cutting & Open House Celebration
DESCRIPTION:Join us in welcoming Stellar Medical Aesthetics to Lexington Center with a special Ribbon Cutting & Open House Celebration!\n\nStop by on Friday\, June 5th from 4:30 6:30 PM at 1707 Massachusetts Ave\, Suite 6 for an afternoon of light bites\, celebratory sips\, and a chance to explore this beautiful new space. Meet the team\, learn more about their services\, and ask questions in a relaxed\, welcoming setting.\n\nGuests will also enjoy a few exclusive event perks:\n\n\n	Enter to win curated skincare products\n	Enter to win a DiamondGlow  facial experience\n	Receive 10% off treatments booked during the event\n\n\nWhether you're curious about medical aesthetics or simply want to support a new local business\, this is a great opportunity to connect\, unwind\, and celebrate.\n\nWe'd love to see you there!\n\nRSVP: (508) 810-6891
X-ALT-DESC;FMTTYPE=text/html:<p data-end="131" data-start="0" style="caret-color: rgb(0\, 0\, 0)\; color: rgb(0\, 0\, 0)\;"><span style="font-size:18px\;"><span style="font-family:tahoma\;">Join us in welcoming&nbsp\;<strong data-end="51" data-start="21">Stellar Medical Aesthetics</strong>&nbsp\;to Lexington Center with a special&nbsp\;<strong data-end="118" data-start="87">Ribbon Cutting &amp\; Open House </strong><strong data-end="118" data-start="87">C</strong><strong>elebration!</strong></span></span></p>\n\n<p data-end="421" data-start="133" style="caret-color: rgb(0\, 0\, 0)\; color: rgb(0\, 0\, 0)\;"><span style="font-size:16px\;"><span style="font-family:tahoma\;">Stop by on&nbsp\;<strong data-end="182" data-start="144">Friday\, June 5th from 4:30&ndash\;6:30 PM</strong>&nbsp\;at&nbsp\;<strong data-end="221" data-start="186">1707 Massachusetts Ave\, Suite 6</strong>&nbsp\;for an afternoon of light bites\, celebratory sips\, and a chance to explore this beautiful new space. Meet the team\, learn more about their services\, and ask questions in a relaxed\, welcoming setting.</span></span></p>\n\n<p data-end="474" data-start="423" style="caret-color: rgb(0\, 0\, 0)\; color: rgb(0\, 0\, 0)\;"><span style="font-size:16px\;"><span style="font-family:tahoma\;">Guests will also enjoy a few exclusive event perks:</span></span></p>\n\n<ul data-end="630" data-start="475" style="caret-color: rgb(0\, 0\, 0)\; color: rgb(0\, 0\, 0)\;">\n	<li data-end="517" data-section-id="1jaorwp" data-start="475"><span style="font-size:16px\;"><span style="font-family:tahoma\;">Enter to win curated skincare products</span></span></li>\n	<li data-end="571" data-section-id="1gmu4ml" data-start="518"><span style="font-size:16px\;"><span style="font-family:tahoma\;">Enter to win a&nbsp\;<strong data-end="569" data-start="535">DiamondGlow&reg\; facial experience</strong></span></span></li>\n	<li data-end="630" data-section-id="oy9tdt" data-start="572"><span style="font-size:16px\;"><span style="font-family:tahoma\;">Receive&nbsp\;<strong data-end="604" data-start="582">10% off treatments</strong>&nbsp\;booked during the event</span></span></li>\n</ul>\n\n<p data-end="790" data-start="632" style="caret-color: rgb(0\, 0\, 0)\; color: rgb(0\, 0\, 0)\;"><span style="font-size:16px\;"><span style="font-family:tahoma\;">Whether you&rsquo\;re curious about medical aesthetics or simply want to support a new local business\, this is a great opportunity to connect\, unwind\, and celebrate.</span></span></p>\n\n<p data-end="846" data-is-last-node="" data-is-only-node="" data-start="792" style="caret-color: rgb(0\, 0\, 0)\; color: rgb(0\, 0\, 0)\;"><span style="font-size:16px\;"><span style="font-family:tahoma\;">We&rsquo\;d love to see you there!<br data-end="822" data-start="819" />\n<strong data-end="846" data-is-last-node="" data-start="822">RSVP: (508) 810-6891</strong></span></span></p>\n
LOCATION:1707 Massachusetts Ave\, Suite 6
UID:e.2449.15515
SEQUENCE:3
DTSTAMP:20260420T023624Z
URL:https://business.lexingtonchamber.org/events/details/stellar-medical-aesthetics-ribbon-cutting-open-house-celebration-15515
END:VEVENT

END:VCALENDAR
