BEGIN:VCALENDAR
VERSION:2.0
PRODID:-//ChamberMaster//Event Calendar 2.0//EN
METHOD:PUBLISH
X-PUBLISHED-TTL:P3D
REFRESH-INTERVAL:P3D
CALSCALE:GREGORIAN
BEGIN:VEVENT
DTSTART:20260124T140000Z
DTEND:20260129T233000Z
X-MICROSOFT-CDO-ALLDAYEVENT:FALSE
SUMMARY:Lil' Kickers Open House - Try a Free Class
DESCRIPTION:Try a FREE Lil' Kickers class at our Winter Open House! Lil' Kickers classes are carefully curated and wildly fun. Classes are led by high-energy coaches and packed with creative games structured to help kids tackle age-appropriate developmental milestones. Rooted in renowned child development theories\, our innovative curriculum provides kids ages 18 months to 9 years the skills they need to learn soccer and grow as individuals\, all while having a blast. Come see why more than a million kids nationwide love our program! Classes meet weekly for 50 minutes.
X-ALT-DESC;FMTTYPE=text/html:Try a FREE Lil&#39\; Kickers class at our Winter Open House! Lil&rsquo\; Kickers classes are carefully curated and wildly fun. Classes are led by high-energy coaches and packed with creative games structured to help kids tackle age-appropriate developmental milestones. Rooted in renowned child development theories\, our innovative curriculum provides kids ages 18 months to 9 years the skills they need to learn soccer and grow as individuals\, all while having a blast. Come see why more than a million kids nationwide love our program! Classes meet weekly for 50 minutes.
LOCATION:404 Sporting Ct\, 40503
UID:e.2449.15396
SEQUENCE:3
DTSTAMP:20260419T121238Z
URL:https://business.lexingtonchamber.org/events/details/lil-kickers-open-house-try-a-free-class-15396
END:VEVENT

END:VCALENDAR
