BEGIN:VCALENDAR
VERSION:2.0
PRODID:-//ChamberMaster//Event Calendar 2.0//EN
METHOD:PUBLISH
X-PUBLISHED-TTL:P3D
REFRESH-INTERVAL:P3D
CALSCALE:GREGORIAN
BEGIN:VEVENT
DTSTART:20260516T233000Z
DTEND:20260517T013000Z
X-MICROSOFT-CDO-ALLDAYEVENT:FALSE
SUMMARY:All Things Equal - The Life and Trials of Ruth Bader Ginsburg
DESCRIPTION:All Things Equal: The Life and Trials of Ruth Bader Ginsburg announces 13-city Winter-Spring national tour beginning February 26 through April 11\, 2026. Produced by Scott Stander\, the production which has toured over 30 cities nationwide\, will be returning to San Francisco\, Detroit\, San Diego and Norfolk by popular demand. Written by multiple Award-winner Rupert Holmes and directed by Laley Lippard\, the production stars Michelle Azar who originated the role. Over the course of ninety fascinating and often funny minutes\, the one-woman-production presents an intimate portrayal of Supreme Court Justice Ruth Bader Ginsburg\, a true American original. Set in Ginsburg's chambers\, Holmes invites the audience into the intimacy of her life and many trials: losing her mother the day before she graduated as valedictorian of her Brooklyn High School ... being one of only nine young women studying law at Harvard while also raising a daughter and helping her husband battle cancer ... fighting for women's rights in the 1970's 2 before condescending all-male courts ... and taking courageous stands for human rights as a voice of reason amid a splintering and increasingly politicized Supreme Court.
X-ALT-DESC;FMTTYPE=text/html:All Things Equal: The Life and Trials of Ruth Bader Ginsburg announces 13-city Winter-Spring national tour beginning February 26 through April 11\, 2026. Produced by Scott Stander\, the production which has toured over 30 cities nationwide\, will be returning to San Francisco\, Detroit\, San Diego and Norfolk by popular demand. Written by multiple Award-winner Rupert Holmes and directed by Laley Lippard\, the production stars Michelle Azar who originated the role. Over the course of ninety fascinating and often funny minutes\, the one-woman-production presents an intimate portrayal of Supreme Court Justice Ruth Bader Ginsburg\, a true American original. Set in Ginsburg&rsquo\;s chambers\, Holmes invites the audience into the intimacy of her life and many trials: losing her mother the day before she graduated as valedictorian of her Brooklyn High School ... being one of only nine young women studying law at Harvard while also raising a daughter and helping her husband battle cancer ... fighting for women&#39\;s rights in the 1970&rsquo\;s 2 before condescending all-male courts ... and taking courageous stands for human rights as a voice of reason amid a splintering and increasingly politicized Supreme Court.
LOCATION:Cary Memorial Hall 1605 Mass Ave Lexington MA\, 02420
UID:e.2449.15509
SEQUENCE:3
DTSTAMP:20260424T095339Z
URL:https://business.lexingtonchamber.org/events/details/all-things-equal-the-life-and-trials-of-ruth-bader-ginsburg-15509
END:VEVENT

END:VCALENDAR
